BEGIN:VCALENDAR
VERSION:2.0
PRODID:-//Town of Waldo Maine - ECPv6.15.20//NONSGML v1.0//EN
CALSCALE:GREGORIAN
METHOD:PUBLISH
X-ORIGINAL-URL:https://townofwaldomaine.com
X-WR-CALDESC:Events for Town of Waldo Maine
REFRESH-INTERVAL;VALUE=DURATION:PT1H
X-Robots-Tag:noindex
X-PUBLISHED-TTL:PT1H
BEGIN:VTIMEZONE
TZID:America/New_York
BEGIN:DAYLIGHT
TZOFFSETFROM:-0500
TZOFFSETTO:-0400
TZNAME:EDT
DTSTART:20230312T070000
END:DAYLIGHT
BEGIN:STANDARD
TZOFFSETFROM:-0400
TZOFFSETTO:-0500
TZNAME:EST
DTSTART:20231105T060000
END:STANDARD
BEGIN:DAYLIGHT
TZOFFSETFROM:-0500
TZOFFSETTO:-0400
TZNAME:EDT
DTSTART:20240310T070000
END:DAYLIGHT
BEGIN:STANDARD
TZOFFSETFROM:-0400
TZOFFSETTO:-0500
TZNAME:EST
DTSTART:20241103T060000
END:STANDARD
BEGIN:DAYLIGHT
TZOFFSETFROM:-0500
TZOFFSETTO:-0400
TZNAME:EDT
DTSTART:20250309T070000
END:DAYLIGHT
BEGIN:STANDARD
TZOFFSETFROM:-0400
TZOFFSETTO:-0500
TZNAME:EST
DTSTART:20251102T060000
END:STANDARD
END:VTIMEZONE
BEGIN:VEVENT
DTSTART;TZID=America/New_York:20240812T170000
DTEND;TZID=America/New_York:20240812T180000
DTSTAMP:20260419T130758
CREATED:20240812T104418Z
LAST-MODIFIED:20240812T104548Z
UID:568-1723482000-1723485600@townofwaldomaine.com
SUMMARY:Selectmen Meeting
DESCRIPTION:Agenda\n* Reading and adoption of minutes\n*Warrant\n*Recycle program report\n*G/A paperwork\n*Tax Abatement forms from State (discussion from April)
URL:https://townofwaldomaine.com/event/selectmen-meeting-3/
END:VEVENT
END:VCALENDAR